0.0000089993
0.0000000000
0.0000000000
-0.0000089993
-80.1507829374
25.7836213102
