0.0000089993
0.0000000000
0.0000000000
-0.0000089993
-80.1431695464
25.6662526998
