0.0000089993
0.0000000000
0.0000000000
-0.0000089993
-80.1429445644
25.7023758099
