0.0000089993
0.0000000000
0.0000000000
-0.0000089993
-80.1428185745
25.7204283657
