0.0000089993
0.0000000000
0.0000000000
-0.0000089993
-80.1427465803
25.7294546436
