0.0000089993
0.0000000000
0.0000000000
-0.0000089993
-80.1426835853
25.7384899207
