0.0000089993
0.0000000000
0.0000000000
-0.0000089993
-80.1329103672
25.7113390928
