0.0000089993
0.0000000000
0.0000000000
-0.0000089993
-80.1326493880
25.7474532037
