0.0000089993
0.0000000000
0.0000000000
-0.0000089993
-80.1320554356
25.8287167026
