0.0000089993
0.0000000000
0.0000000000
-0.0000089993
-80.1319924406
25.8377429805
