0.0000089993
0.0000000000
0.0000000000
-0.0000089993
-80.1319294456
25.8467692584
