0.0000089993
0.0000000000
0.0000000000
-0.0000089993
-80.1315604752
25.8738660907
