0.0000089993
0.0000000000
0.0000000000
-0.0000089993
-80.1313624910
25.8828923686
