0.0000089993
0.0000000000
0.0000000000
-0.0000089993
-80.1313174946
25.8919186465
