0.0000089993
0.0000000000
0.0000000000
-0.0000089993
-80.1310565155
25.9099802015
