0.0000089993
0.0000000000
0.0000000000
-0.0000089993
-80.1224442045
26.0182685385
