0.0000089993
0.0000000000
0.0000000000
-0.0000089993
-80.1224172066
25.7835133189
