0.0000089993
0.0000000000
0.0000000000
-0.0000089993
-80.1217512599
25.8738030957
