0.0000089993
0.0000000000
0.0000000000
-0.0000089993
-80.1214812815
25.9099172066
