0.0000089993
0.0000000000
0.0000000000
-0.0000089993
-80.1195284377
26.0543646508
