0.0000089993
0.0000000000
0.0000000000
-0.0000089993
-80.1136699064
26.1265658747
