0.0000089993
0.0000000000
0.0000000000
-0.0000089993
-80.1115910727
26.1536357091
