0.0000089993
0.0000000000
0.0000000000
-0.0000089993
-80.1125000000
25.7744240460
