0.0000089993
0.0000000000
0.0000000000
-0.0000089993
-80.1115730742
25.9008279337
