0.0000089993
0.0000000000
0.0000000000
-0.0000089993
-80.1113660907
25.9279157667
