0.0000089993
0.0000000000
0.0000000000
-0.0000089993
-80.1112311015
25.9459773218
