0.0000089993
0.0000000000
0.0000000000
-0.0000089993
-80.1111591073
25.9550035997
