0.0000089993
0.0000000000
0.0000000000
-0.0000089993
-80.1108891289
25.9911177105
