0.0000089993
0.0000000000
0.0000000000
-0.0000089993
-80.1106191505
26.0272318214
