0.0000089993
0.0000000000
0.0000000000
-0.0000089993
-80.1102771778
26.0723722102
