0.0000089993
0.0000000000
0.0000000000
-0.0000089993
-80.1101421886
26.0904337652
