0.0000089993
0.0000000000
0.0000000000
-0.0000089993
-80.1097282217
26.1445824333
