0.0000089993
0.0000000000
0.0000000000
-0.0000089993
-80.1096652268
26.1536267098
