0.0000089993
0.0000000000
0.0000000000
-0.0000089993
-80.1095212383
26.1716882649
