0.0000089993
0.0000000000
0.0000000000
-0.0000089993
-80.1004139669
26.0542566594
