0.0000089993
0.0000000000
0.0000000000
-0.0000089993
-80.1003509719
26.0632919366
