0.0000089993
0.0000000000
0.0000000000
-0.0000089993
-80.0997300216
26.1445374369
