0.0000089993
0.0000000000
0.0000000000
-0.0000089993
-80.0993160547
26.1987131029
