0.0000089993
0.0000000000
0.0000000000
-0.0000089993
-80.0893088553
26.1986501079
