0.0000089993
0.0000000000
0.0000000000
-0.0000089993
-80.0791756659
26.2076133909
