0.0000089993
0.0000000000
0.0000000000
-0.0000089993
-80.1386969042
27.0927735781
