0.0000089993
0.0000000000
0.0000000000
-0.0000089993
-80.1276817855
27.0656227501
