0.0000089993
0.0000000000
0.0000000000
-0.0000089993
-80.1326583873
27.0837023038
