0.0000089993
0.0000000000
0.0000000000
-0.0000089993
-80.1325413967
27.1017548596
