0.0000089993
0.0000000000
0.0000000000
-0.0000089993
-80.1129409647
27.0294096472
