0.0000089993
0.0000000000
0.0000000000
-0.0000089993
-80.1223902088
27.1107271418
