0.0000089993
0.0000000000
0.0000000000
-0.0000089993
-80.1223182145
27.1197534197
