0.0000089993
0.0000000000
0.0000000000
-0.0000089993
-80.1128689705
27.0384359251
