0.0000089993
0.0000000000
0.0000000000
-0.0000089993
-80.1125899928
27.0745500359
