0.0000089993
0.0000000000
0.0000000000
-0.0000089993
-80.0943754500
26.9841522678
